BEGIN:VCALENDAR
VERSION:2.0
PRODID:-//Event - ECPv6.15.20//NONSGML v1.0//EN
CALSCALE:GREGORIAN
METHOD:PUBLISH
X-WR-CALNAME:Event
X-ORIGINAL-URL:https://sibour.com/event
X-WR-CALDESC:Events for Event
REFRESH-INTERVAL;VALUE=DURATION:PT1H
X-Robots-Tag:noindex
X-PUBLISHED-TTL:PT1H
BEGIN:VTIMEZONE
TZID:Asia/Bangkok
BEGIN:STANDARD
TZOFFSETFROM:+0700
TZOFFSETTO:+0700
TZNAME:+07
DTSTART:20250101T000000
END:STANDARD
END:VTIMEZONE
BEGIN:VEVENT
DTSTART;TZID=Asia/Bangkok:20260426T100000
DTEND;TZID=Asia/Bangkok:20260426T190000
DTSTAMP:20260423T215818
CREATED:20260420T041452Z
LAST-MODIFIED:20260420T041452Z
UID:6135-1777197600-1777230000@sibour.com
SUMMARY:Sant Jordi 2026 / International Spanish Day
DESCRIPTION:
URL:https://sibour.com/event/event/sant-jordi-2026-international-spanish-day/
LOCATION:GalileOasis\, 535\, 32 Soi Rong Rian King Phet\, Thanon Phetchaburi\,\, Ratchathewi\, Bangkok\, 10400\, Thailand
ATTACH;FMTTYPE=image/jpeg:https://sibour.com/event/wp-content/uploads/2026/04/Sant-Jordi.jpg
END:VEVENT
BEGIN:VEVENT
DTSTART;TZID=Asia/Bangkok:20260428T183000
DTEND;TZID=Asia/Bangkok:20260428T220000
DTSTAMP:20260423T215818
CREATED:20260421T034034Z
LAST-MODIFIED:20260421T034034Z
UID:6146-1777401000-1777413600@sibour.com
SUMMARY:Spanish Gastronomic Awards
DESCRIPTION:
URL:https://sibour.com/event/event/spanish-gastronomic-awards/
LOCATION:Uno Mas\, 999\, 99 Rama I Rd\, Pathum Wan\,\, Bangkok\, Bangkok\, 10330\, Thailand
ATTACH;FMTTYPE=image/webp:https://sibour.com/event/wp-content/uploads/2026/04/Spanish-Gastronomic-Awards.webp
END:VEVENT
BEGIN:VEVENT
DTSTART;TZID=Asia/Bangkok:20260429T180000
DTEND;TZID=Asia/Bangkok:20260429T210000
DTSTAMP:20260423T215818
CREATED:20260423T065143Z
LAST-MODIFIED:20260423T065347Z
UID:6149-1777485600-1777496400@sibour.com
SUMMARY:Spanish Heritage
DESCRIPTION:Experience a culinary journey through the Spanish Heritage at an exclusive four-hands dinner featuring Chef Clément Hernandez and Michelin-starred Chef Manuel Alonso of Casa Manolo\, Valencia. \nThe evening showcases a six-course sharing menu that highlights the depth of Spanish cuisine\, elevated by modern French craftsmanship. \nIn collaboration with the Thai-Spanish Chamber of Commerce\, this one-night-only experience honors Mediterranean flavors through a refined and immersive dining experience. \nJoin us on Wednesday\, 29 April 2026 from 6:00 PM to 9:00 PM. Priced at THB 2\,500++ per person\, inclusive of a welcome drink. \nReserve now at https://athenee.co/MediterraneanSeries
URL:https://sibour.com/event/event/spanish-heritage/
LOCATION:The Allium Bangkok\, The Athenee Hotel\, a Luxury Collection Hotel\, Bangkok 61 Wireless Road (Witthayu)\, Lumpini\,\, Bangkok\, Pathumwan\, 10330\, Thailand
ATTACH;FMTTYPE=image/png:https://sibour.com/event/wp-content/uploads/2026/04/TAB-Spanish-Heritage-Flyer-.png
END:VEVENT
BEGIN:VEVENT
DTSTART;TZID=Asia/Bangkok:20260508T110000
DTEND;TZID=Asia/Bangkok:20260512T200000
DTSTAMP:20260423T215818
CREATED:20260402T040726Z
LAST-MODIFIED:20260402T040726Z
UID:6118-1778238000-1778616000@sibour.com
SUMMARY:HBD
DESCRIPTION:
URL:https://sibour.com/event/event/hbd/
LOCATION:Central World\, 999/9 Rama I Rd\, Pathum Wan\, Bangkok\, 10330\, Thailand
END:VEVENT
BEGIN:VEVENT
DTSTART;TZID=Asia/Bangkok:20260515T160000
DTEND;TZID=Asia/Bangkok:20260515T210000
DTSTAMP:20260423T215818
CREATED:20260402T035249Z
LAST-MODIFIED:20260421T063506Z
UID:6114-1778860800-1778878800@sibour.com
SUMMARY:Spanish wine sipping at Mellow
DESCRIPTION:
URL:https://sibour.com/event/product/spanish-wine-sipping-at-mellow/
LOCATION:Mellow Thonglor\, 6 Thong Lo\, Khlong Tan Nuea\, Watthana\, Bangkok\, 10110\, Thailand
ATTACH;FMTTYPE=image/jpeg:https://sibour.com/event/wp-content/uploads/2026/04/mellow.jpg
END:VEVENT
END:VCALENDAR